BEGIN:VCALENDAR
BEGIN:VEVENT
SUMMARY:Hospitation 4. Klassen NBS
DTSTART;VALUE=DATE:20251027
DTEND;VALUE=DATE:20251031
UID:terminkalender-event_1752223270_8349557.html
ORGANIZER:mailto:c.kochendoerffer@t-online.de
END:VEVENT
BEGIN:VEVENT
SUMMARY:Austauschtreffen Erzieherinnen/Klassenlehrkräfte 1. JG und Betreu
 ung
DTSTART:20251029T150000
DTEND:20251029T150000
UID:terminkalender-event_1752223270_9867365.html
LOCATION:Mensa Stammschule
ORGANIZER:mailto:c.kochendoerffer@t-online.de
END:VEVENT
BEGIN:VEVENT
SUMMARY:Rückmeldung AV / SV Klasse 3/4
DTSTART;VALUE=DATE:20251103
DTEND;VALUE=DATE:20251107
UID:terminkalender-event_1752223271_14279.html
ORGANIZER:mailto:c.kochendoerffer@t-online.de
END:VEVENT
BEGIN:VEVENT
SUMMARY:Fachgruppentreffen Block C (Mu/Ku/DaZ)
DTSTART:20251103T133000
DTEND:20251103T153000
UID:terminkalender-event_1752224692_0940516.html
ORGANIZER:mailto:c.kochendoerffer@t-online.de
END:VEVENT
BEGIN:VEVENT
SUMMARY:Erste Hilfe-Kurse 3. Klassen
DTSTART;VALUE=DATE:20251110
DTEND;VALUE=DATE:20251118
UID:terminkalender-event_1752223271_4522529.html
ORGANIZER:mailto:c.kochendoerffer@t-online.de
END:VEVENT
BEGIN:VEVENT
SUMMARY:Informationsveranstaltung zum Übergang in Klasse 5
DTSTART:20251110T190000
DTEND:20251110T203000
UID:terminkalender-event_1761730285_9918804.html
LOCATION:Mensa in der Stammschule für alle 4. Klassen
ORGANIZER:mailto:c.kochendoerffer@t-online.de
END:VEVENT
BEGIN:VEVENT
SUMMARY:2. Gesamtkonferenz 
DTSTART:20251117T133000
DTEND:20251117T153000
UID:terminkalender-event_1752223271_3185158.html
LOCATION:Konferenzraum (digital?)
ORGANIZER:mailto:c.kochendoerffer@t-online.de
END:VEVENT
BEGIN:VEVENT
SUMMARY:Breidert: Letzter Schultag vor den Weihnachtsferien - Unterrichtss
 chluss nach Plan
DTSTART;VALUE=DATE:20251217
DTEND;VALUE=DATE:20251217
UID:terminkalender-event_1758869622_8500266.html
ORGANIZER:mailto:Schulleitung@trinkbornschule-roedermark.de
END:VEVENT
BEGIN:VEVENT
SUMMARY:Stammschule: Letzter Schultag vor den Weihnachtsferien  - Unterric
 htsschluss 11:00 Uhr
DTSTART;VALUE=DATE:20251219
DTEND;VALUE=DATE:20251219
UID:terminkalender-event_1752223271_8949654.html
ORGANIZER:mailto:c.kochendoerffer@t-online.de
END:VEVENT
BEGIN:VEVENT
SUMMARY:Weihnachtsferien
DTSTART;VALUE=DATE:20251220
DTEND;VALUE=DATE:20260111
UID:terminkalender-event_1752223272_0401428.html
ORGANIZER:mailto:c.kochendoerffer@t-online.de
END:VEVENT
BEGIN:VEVENT
SUMMARY:1. Schultag nach den Weihnachtsferien
DTSTART;VALUE=DATE:20260112
DTEND;VALUE=DATE:20260112
UID:terminkalender-event_1752223272_1856074.html
ORGANIZER:mailto:c.kochendoerffer@t-online.de
END:VEVENT
BEGIN:VEVENT
SUMMARY:Abgabe der Noten an die Klassenlehrer/innen
DTSTART;VALUE=DATE:20260115
DTEND;VALUE=DATE:20260115
UID:terminkalender-event_1752223272_3311007.html
ORGANIZER:mailto:c.kochendoerffer@t-online.de
END:VEVENT
BEGIN:VEVENT
SUMMARY:Info Teilnahme AGs an die Klassenlehrer/innen
DTSTART;VALUE=DATE:20260115
DTEND;VALUE=DATE:20260115
UID:terminkalender-event_1752223272_4773688.html
ORGANIZER:mailto:c.kochendoerffer@t-online.de
END:VEVENT
BEGIN:VEVENT
SUMMARY:Morgen\, am 16.01.2025 bleibt das Sekretariat der Stammschule gesc
 hlossen.
DTSTART;VALUE=DATE:20260116
DTEND;VALUE=DATE:20260116
UID:terminkalender-event_1768477054_3305497.html
ORGANIZER:mailto:c.kochendoerffer@t-online.de
END:VEVENT
BEGIN:VEVENT
SUMMARY:3. Gesamtkonferenz / Notenkonferenz
DTSTART:20260119T133000
DTEND:20260119T153000
UID:terminkalender-event_1752223272_6257298.html
LOCATION:Konferenzraum
ORGANIZER:mailto:c.kochendoerffer@t-online.de
END:VEVENT
BEGIN:VEVENT
SUMMARY:Tandemtreffen Kita/Schule
DTSTART:20260121T143000
DTEND:20260121T160000
UID:terminkalender-event_1752223271_6045103.html
LOCATION:Kita an der Rodau
ORGANIZER:mailto:c.kochendoerffer@t-online.de
END:VEVENT
BEGIN:VEVENT
SUMMARY:Abgabe der Zeugnisse bei der Schulleitung
DTSTART;VALUE=DATE:20260123
DTEND;VALUE=DATE:20260123
UID:terminkalender-event_1752223272_7876554.html
ORGANIZER:mailto:c.kochendoerffer@t-online.de
END:VEVENT
BEGIN:VEVENT
SUMMARY:Rückmeldung AV / SV Klasse 2
DTSTART;VALUE=DATE:20260126
DTEND;VALUE=DATE:20260206
UID:terminkalender-event_1752223273_07469.html
ORGANIZER:mailto:c.kochendoerffer@t-online.de
END:VEVENT
BEGIN:VEVENT
SUMMARY:Völkerballturnier 3. Jahrgang
DTSTART;VALUE=DATE:20260126
DTEND;VALUE=DATE:20260126
UID:terminkalender-event_1752223273_22992.html
ORGANIZER:mailto:c.kochendoerffer@t-online.de
END:VEVENT
BEGIN:VEVENT
SUMMARY:1. Schulkonferenz
DTSTART:20260126T193000
DTEND:20260126T210000
UID:terminkalender-event_1752223272_9282715.html
ORGANIZER:mailto:c.kochendoerffer@t-online.de
END:VEVENT
BEGIN:VEVENT
SUMMARY:Völkerballturnier 4. Jahrgang
DTSTART;VALUE=DATE:20260127
DTEND;VALUE=DATE:20260127
UID:terminkalender-event_1752223273_374965.html
ORGANIZER:mailto:c.kochendoerffer@t-online.de
END:VEVENT
BEGIN:VEVENT
SUMMARY:Ausgabe der Halbjahreszeugnisse - Unterrichtsschluss 11:00 Uhr
DTSTART;VALUE=DATE:20260130
DTEND;VALUE=DATE:20260130
UID:terminkalender-event_1752223273_5299666.html
ORGANIZER:mailto:c.kochendoerffer@t-online.de
END:VEVENT
BEGIN:VEVENT
SUMMARY:Start des Stundenplans für das zweite Halbjahr
DTSTART;VALUE=DATE:20260202
DTEND;VALUE=DATE:20260202
UID:terminkalender-event_1752223273_674926.html
ORGANIZER:mailto:c.kochendoerffer@t-online.de
END:VEVENT
BEGIN:VEVENT
SUMMARY:2. Sportfachkonferenz
DTSTART:20260202T131500
DTEND:20260202T141500
UID:terminkalender-event_1758782363_212052.html
ORGANIZER:mailto:c.kochendoerffer@t-online.de
END:VEVENT
BEGIN:VEVENT
SUMMARY:Rosenmontag schulfrei
DTSTART;VALUE=DATE:20260216
DTEND;VALUE=DATE:20260216
UID:terminkalender-event_1752223273_9596152.html
ORGANIZER:mailto:c.kochendoerffer@t-online.de
END:VEVENT
BEGIN:VEVENT
SUMMARY:Faschingsdienstag schulfrei
DTSTART;VALUE=DATE:20260217
DTEND;VALUE=DATE:20260217
UID:terminkalender-event_1752223274_1042037.html
ORGANIZER:mailto:c.kochendoerffer@t-online.de
END:VEVENT
BEGIN:VEVENT
SUMMARY:Start der Arbeitsgemeinschaften
DTSTART;VALUE=DATE:20260218
DTEND;VALUE=DATE:20260218
UID:terminkalender-event_1752223273_8209262.html
ORGANIZER:mailto:c.kochendoerffer@t-online.de
END:VEVENT
BEGIN:VEVENT
SUMMARY:Klassenkonferenz 4. Jahrgang
DTSTART;VALUE=DATE:20260302
DTEND;VALUE=DATE:20260302
UID:terminkalender-event_1752223274_3798385.html
ORGANIZER:mailto:c.kochendoerffer@t-online.de
END:VEVENT
BEGIN:VEVENT
SUMMARY:4. Gesamtkonferenz
DTSTART:20260302T133000
DTEND:20260302T153000
UID:terminkalender-event_1752223274_2473888.html
LOCATION:Konferenzraum
ORGANIZER:mailto:c.kochendoerffer@t-online.de
END:VEVENT
BEGIN:VEVENT
SUMMARY:Känguru-Wettbewerb
DTSTART;VALUE=DATE:20260319
DTEND;VALUE=DATE:20260319
UID:terminkalender-event_1752223274_5169475.html
ORGANIZER:mailto:c.kochendoerffer@t-online.de
END:VEVENT
BEGIN:VEVENT
SUMMARY:Fest des Fastenbrechens (Idu! Fitr\, Seker Bayrami\, Ramazan Bayra
 mi) 
DTSTART;VALUE=DATE:20260320
DTEND;VALUE=DATE:20260320
UID:terminkalender-event_1752223274_662062.html
ORGANIZER:mailto:c.kochendoerffer@t-online.de
END:VEVENT
BEGIN:VEVENT
SUMMARY:Letzter Schultag vor den Osterferien - Unterrichtsschluss 11:00 Uh
 r
DTSTART;VALUE=DATE:20260327
DTEND;VALUE=DATE:20260327
UID:terminkalender-event_1752223274_8294325.html
ORGANIZER:mailto:c.kochendoerffer@t-online.de
END:VEVENT
BEGIN:VEVENT
SUMMARY:Osterferien
DTSTART;VALUE=DATE:20260328
DTEND;VALUE=DATE:20260412
UID:terminkalender-event_1752223274_9848542.html
ORGANIZER:mailto:c.kochendoerffer@t-online.de
END:VEVENT
BEGIN:VEVENT
SUMMARY:1. Schultag nach den Osterferien
DTSTART;VALUE=DATE:20260413
DTEND;VALUE=DATE:20260413
UID:terminkalender-event_1752223275_1409523.html
ORGANIZER:mailto:c.kochendoerffer@t-online.de
END:VEVENT
BEGIN:VEVENT
SUMMARY:Verkehrserziehung 4. Jahrgang Stammschule
DTSTART;VALUE=DATE:20260414
DTEND;VALUE=DATE:20260430
UID:terminkalender-event_1752223275_2905402.html
ORGANIZER:mailto:c.kochendoerffer@t-online.de
END:VEVENT
BEGIN:VEVENT
SUMMARY:Rückmeldung AV / SV Klasse 3
DTSTART;VALUE=DATE:20260427
DTEND;VALUE=DATE:20260508
UID:terminkalender-event_1752223275_5945878.html
ORGANIZER:mailto:c.kochendoerffer@t-online.de
END:VEVENT
BEGIN:VEVENT
SUMMARY:Information Versetzungsgefährdung
DTSTART;VALUE=DATE:20260430
DTEND;VALUE=DATE:20260430
UID:terminkalender-event_1752223275_7485476.html
ORGANIZER:mailto:c.kochendoerffer@t-online.de
END:VEVENT
BEGIN:VEVENT
SUMMARY:1. Mai / Tag der Arbeit
DTSTART;VALUE=DATE:20260501
DTEND;VALUE=DATE:20260501
UID:terminkalender-event_1752223275_9054394.html
ORGANIZER:mailto:c.kochendoerffer@t-online.de
END:VEVENT
BEGIN:VEVENT
SUMMARY:5. Gesamtkonferenz
DTSTART:20260504T133000
DTEND:20260504T153000
UID:terminkalender-event_1752223276_205202.html
LOCATION:Konferenzraum (digital?)
ORGANIZER:mailto:c.kochendoerffer@t-online.de
END:VEVENT
BEGIN:VEVENT
SUMMARY:Lernstandserhebung Mathematik
DTSTART;VALUE=DATE:20260505
DTEND;VALUE=DATE:20260505
UID:terminkalender-event_1770882012_2046082.html
ORGANIZER:mailto:c.kochendoerffer@t-online.de
END:VEVENT
BEGIN:VEVENT
SUMMARY:Lernstandserhebung Deutsch
DTSTART;VALUE=DATE:20260508
DTEND;VALUE=DATE:20260508
UID:terminkalender-event_1770882044_0367758.html
ORGANIZER:mailto:c.kochendoerffer@t-online.de
END:VEVENT
BEGIN:VEVENT
SUMMARY:Lernstandserhebung Mathematik
DTSTART;VALUE=DATE:20260511
DTEND;VALUE=DATE:20260511
UID:terminkalender-event_1770882061_9466374.html
ORGANIZER:mailto:c.kochendoerffer@t-online.de
END:VEVENT
BEGIN:VEVENT
SUMMARY:Lernstandserhebung Deutsch
DTSTART;VALUE=DATE:20260512
DTEND;VALUE=DATE:20260512
UID:terminkalender-event_1770882077_815764.html
ORGANIZER:mailto:c.kochendoerffer@t-online.de
END:VEVENT
BEGIN:VEVENT
SUMMARY:Christi Himmelfahrt
DTSTART;VALUE=DATE:20260514
DTEND;VALUE=DATE:20260514
UID:terminkalender-event_1752223276_3599553.html
ORGANIZER:mailto:c.kochendoerffer@t-online.de
END:VEVENT
BEGIN:VEVENT
SUMMARY:beweglicher Ferientag schulfrei
DTSTART;VALUE=DATE:20260515
DTEND;VALUE=DATE:20260515
UID:terminkalender-event_1752223276_5083284.html
ORGANIZER:mailto:c.kochendoerffer@t-online.de
END:VEVENT
BEGIN:VEVENT
SUMMARY:Stadtradeln
DTSTART;VALUE=DATE:20260517
DTEND;VALUE=DATE:20260606
UID:terminkalender-event_1774941597_397755.html
ORGANIZER:mailto:c.kochendoerffer@t-online.de
END:VEVENT
BEGIN:VEVENT
SUMMARY:Aktionswoche\, inkl. BJS
DTSTART;VALUE=DATE:20260519
DTEND;VALUE=DATE:20260522
UID:terminkalender-event_1752223276_6519876.html
ORGANIZER:mailto:c.kochendoerffer@t-online.de
END:VEVENT
BEGIN:VEVENT
SUMMARY:Sport & Bewegungstag
DTSTART;VALUE=DATE:20260520
DTEND;VALUE=DATE:20260520
UID:terminkalender-event_1758782241_601297.html
ORGANIZER:mailto:c.kochendoerffer@t-online.de
END:VEVENT
BEGIN:VEVENT
SUMMARY:Bundesjugendspiele 1./2. Jahrgang
DTSTART;VALUE=DATE:20260521
DTEND;VALUE=DATE:20260521
UID:terminkalender-event_1752223276_8063617.html
ORGANIZER:mailto:c.kochendoerffer@t-online.de
END:VEVENT
BEGIN:VEVENT
SUMMARY:Bundesjugendspiele 3./4. Jahrgang
DTSTART;VALUE=DATE:20260522
DTEND;VALUE=DATE:20260522
UID:terminkalender-event_1752223276_9622316.html
ORGANIZER:mailto:c.kochendoerffer@t-online.de
END:VEVENT
BEGIN:VEVENT
SUMMARY:Pfingstmontag
DTSTART;VALUE=DATE:20260525
DTEND;VALUE=DATE:20260525
UID:terminkalender-event_1752223277_1136897.html
ORGANIZER:mailto:c.kochendoerffer@t-online.de
END:VEVENT
BEGIN:VEVENT
SUMMARY:Opferfest (Idul Adha\, Kurban Bayrami) 
DTSTART;VALUE=DATE:20260527
DTEND;VALUE=DATE:20260527
UID:terminkalender-event_1752223277_2678828.html
ORGANIZER:mailto:c.kochendoerffer@t-online.de
END:VEVENT
BEGIN:VEVENT
SUMMARY:Übergabe-Konferenz (Austausch Jahrgänge 1-4)
DTSTART:20260601T133000
DTEND:20260601T153000
UID:terminkalender-event_1752223277_43309.html
ORGANIZER:mailto:c.kochendoerffer@t-online.de
END:VEVENT
BEGIN:VEVENT
SUMMARY:Fronleichnam
DTSTART;VALUE=DATE:20260604
DTEND;VALUE=DATE:20260604
UID:terminkalender-event_1752223277_5863938.html
ORGANIZER:mailto:c.kochendoerffer@t-online.de
END:VEVENT
BEGIN:VEVENT
SUMMARY:beweglicher Ferientag schulfrei
DTSTART;VALUE=DATE:20260605
DTEND;VALUE=DATE:20260605
UID:terminkalender-event_1752223277_7336287.html
ORGANIZER:mailto:c.kochendoerffer@t-online.de
END:VEVENT
BEGIN:VEVENT
SUMMARY:Abgabe der Noten an die Klassenlehrer/innen
DTSTART;VALUE=DATE:20260611
DTEND;VALUE=DATE:20260611
UID:terminkalender-event_1752223277_888127.html
ORGANIZER:mailto:c.kochendoerffer@t-online.de
END:VEVENT
BEGIN:VEVENT
SUMMARY:Info Teilnahme AGs an die Klassenlehrer/innen
DTSTART;VALUE=DATE:20260611
DTEND;VALUE=DATE:20260611
UID:terminkalender-event_1752223278_0412698.html
ORGANIZER:mailto:c.kochendoerffer@t-online.de
END:VEVENT
BEGIN:VEVENT
SUMMARY:6. Gesamtkonferenz (Versetzungskonferenz)
DTSTART:20260615T133000
DTEND:20260615T153000
UID:terminkalender-event_1752223278_2034903.html
LOCATION:Konferenzraum 
ORGANIZER:mailto:c.kochendoerffer@t-online.de
END:VEVENT
BEGIN:VEVENT
SUMMARY:Schnupperstunde neue 1.Klassen & VK
DTSTART:20260616T150000
DTEND:20260616T160000
UID:terminkalender-event_1752223278_3494005.html
LOCATION:Stammschule und Breidert
ORGANIZER:mailto:c.kochendoerffer@t-online.de
END:VEVENT
BEGIN:VEVENT
SUMMARY:Abgabe der Zeugnisse bei der Schulleitung
DTSTART;VALUE=DATE:20260619
DTEND;VALUE=DATE:20260619
UID:terminkalender-event_1752223278_497201.html
ORGANIZER:mailto:c.kochendoerffer@t-online.de
END:VEVENT
BEGIN:VEVENT
SUMMARY:wumboR-Lauf
DTSTART;VALUE=DATE:20260621
DTEND;VALUE=DATE:20260621
UID:terminkalender-event_1758789957_1135426.html
ORGANIZER:mailto:c.kochendoerffer@t-online.de
END:VEVENT
BEGIN:VEVENT
SUMMARY:2. Schulkonferenz
DTSTART:20260622T193000
DTEND:20260622T210000
UID:terminkalender-event_1752223278_6475573.html
LOCATION:Stammschule\, Lehrerzimmer
ORGANIZER:mailto:c.kochendoerffer@t-online.de
END:VEVENT
BEGIN:VEVENT
SUMMARY:Ehrungen (BJS\, Känguru\, Antolin)
DTSTART;VALUE=DATE:20260623
DTEND;VALUE=DATE:20260623
UID:terminkalender-event_1752224761_716074.html
ORGANIZER:mailto:c.kochendoerffer@t-online.de
END:VEVENT
BEGIN:VEVENT
SUMMARY:Generalprobe und erste Aufführung Musicalkids
DTSTART;VALUE=DATE:20260623
DTEND;VALUE=DATE:20260623
UID:terminkalender-event_1772457318_749007.html
LOCATION:Kulturhalle
ORGANIZER:mailto:c.kochendoerffer@t-online.de
END:VEVENT
BEGIN:VEVENT
SUMMARY:zweite Aufführung Musicalkids: Schulveranstaltung
DTSTART;VALUE=DATE:20260624
DTEND;VALUE=DATE:20260624
UID:terminkalender-event_1772457377_6415594.html
ORGANIZER:mailto:c.kochendoerffer@t-online.de
END:VEVENT
BEGIN:VEVENT
SUMMARY:letzter Schultag vor den Sommerferien (Zeugnisausgabe)  - Unterric
 htsschluss 11:00 Uhr
DTSTART;VALUE=DATE:20260626
DTEND;VALUE=DATE:20260626
UID:terminkalender-event_1752223278_7995992.html
ORGANIZER:mailto:c.kochendoerffer@t-online.de
END:VEVENT
BEGIN:VEVENT
SUMMARY:Sommerferien
DTSTART;VALUE=DATE:20260627
DTEND;VALUE=DATE:20260809
UID:terminkalender-event_1752223278_9570649.html
ORGANIZER:mailto:c.kochendoerffer@t-online.de
END:VEVENT
BEGIN:VEVENT
SUMMARY:Fotograf
DTSTART:20260910T080000
DTEND:20260911T130000
UID:terminkalender-event_1761729168_1991372.html
ORGANIZER:mailto:c.kochendoerffer@t-online.de
END:VEVENT
BEGIN:VEVENT
SUMMARY:Regelunterricht
DTSTART;VALUE=DATE:20260914
DTEND;VALUE=DATE:20260914
UID:terminkalender-event_1761729215_7355986.html
ORGANIZER:mailto:c.kochendoerffer@t-online.de
END:VEVENT
BEGIN:VEVENT
SUMMARY:Ausflugstag
DTSTART;VALUE=DATE:20260915
DTEND;VALUE=DATE:20260915
UID:terminkalender-event_1761729239_8383572.html
ORGANIZER:mailto:c.kochendoerffer@t-online.de
END:VEVENT
BEGIN:VEVENT
SUMMARY:Spieletag
DTSTART;VALUE=DATE:20260916
DTEND;VALUE=DATE:20260916
UID:terminkalender-event_1761729264_2734163.html
ORGANIZER:mailto:c.kochendoerffer@t-online.de
END:VEVENT
BEGIN:VEVENT
SUMMARY:BJS oder Ausflüge
DTSTART;VALUE=DATE:20260917
DTEND;VALUE=DATE:20260918
UID:terminkalender-event_1761729296_3153875.html
ORGANIZER:mailto:c.kochendoerffer@t-online.de
END:VEVENT
END:VCALENDAR
